BEGIN:VCALENDAR
VERSION:2.0
PRODID:-//Marche Nordique Val et Plaine - ECPv6.15.20//NONSGML v1.0//EN
CALSCALE:GREGORIAN
METHOD:PUBLISH
X-ORIGINAL-URL:https://mnvp.fr
X-WR-CALDESC:Évènements pour Marche Nordique Val et Plaine
REFRESH-INTERVAL;VALUE=DURATION:PT1H
X-Robots-Tag:noindex
X-PUBLISHED-TTL:PT1H
BEGIN:VTIMEZONE
TZID:Europe/Paris
BEGIN:DAYLIGHT
TZOFFSETFROM:+0100
TZOFFSETTO:+0200
TZNAME:CEST
DTSTART:20240331T010000
END:DAYLIGHT
BEGIN:STANDARD
TZOFFSETFROM:+0200
TZOFFSETTO:+0100
TZNAME:CET
DTSTART:20241027T010000
END:STANDARD
BEGIN:DAYLIGHT
TZOFFSETFROM:+0100
TZOFFSETTO:+0200
TZNAME:CEST
DTSTART:20250330T010000
END:DAYLIGHT
BEGIN:STANDARD
TZOFFSETFROM:+0200
TZOFFSETTO:+0100
TZNAME:CET
DTSTART:20251026T010000
END:STANDARD
BEGIN:DAYLIGHT
TZOFFSETFROM:+0100
TZOFFSETTO:+0200
TZNAME:CEST
DTSTART:20260329T010000
END:DAYLIGHT
BEGIN:STANDARD
TZOFFSETFROM:+0200
TZOFFSETTO:+0100
TZNAME:CET
DTSTART:20261025T010000
END:STANDARD
END:VTIMEZONE
BEGIN:VEVENT
DTSTART;TZID=Europe/Paris:20250906T090000
DTEND;TZID=Europe/Paris:20250906T130000
DTSTAMP:20260425T180357
CREATED:20250828T073344Z
LAST-MODIFIED:20250828T073440Z
UID:3387-1757149200-1757163600@mnvp.fr
SUMMARY:Séance du samedi 06/09/2025
DESCRIPTION:Cette saison sera marquée par quelques petits changements dans notre pratique d’encadrement. Entre autres\, nous nous efforcerons de faire régulièrement\, à raison de 2 fois 10 minutes à chaque séance\, des rappels techniques\, du renforcement musculaire\, du cardio\, de l’endurance\, de la respiration…Bref de revoir les fondamentaux de notre activité sportive préférée ! \n\n\n\nPendant quelques semaines et comme l’année dernière à cette même époque\, les « sportifs » et les « toniques » seront fusionnés afin de mieux retravailler les b.a.-ba de la MN. \n\n\n\n\nRV à 9h15 sur le parking du plateau de l’espace (ex LRBA)\n\n\n\nLien pour les inscriptions: https://xoyondo.com/dp/vxk4xyb6b6zti4w
URL:https://mnvp.fr/evenement/seance-du-samedi-06-09-2025/
LOCATION:Vernon les 3 Chênes\, CSADN DANSE\, Vernon\, 27200\, France
END:VEVENT
END:VCALENDAR