BEGIN:VCALENDAR
VERSION:2.0
PRODID:-//Marche Nordique Val et Plaine - ECPv6.15.20//NONSGML v1.0//EN
CALSCALE:GREGORIAN
METHOD:PUBLISH
X-ORIGINAL-URL:https://mnvp.fr
X-WR-CALDESC:Évènements pour Marche Nordique Val et Plaine
REFRESH-INTERVAL;VALUE=DURATION:PT1H
X-Robots-Tag:noindex
X-PUBLISHED-TTL:PT1H
BEGIN:VTIMEZONE
TZID:Europe/Paris
BEGIN:DAYLIGHT
TZOFFSETFROM:+0100
TZOFFSETTO:+0200
TZNAME:CEST
DTSTART:20240331T010000
END:DAYLIGHT
BEGIN:STANDARD
TZOFFSETFROM:+0200
TZOFFSETTO:+0100
TZNAME:CET
DTSTART:20241027T010000
END:STANDARD
BEGIN:DAYLIGHT
TZOFFSETFROM:+0100
TZOFFSETTO:+0200
TZNAME:CEST
DTSTART:20250330T010000
END:DAYLIGHT
BEGIN:STANDARD
TZOFFSETFROM:+0200
TZOFFSETTO:+0100
TZNAME:CET
DTSTART:20251026T010000
END:STANDARD
BEGIN:DAYLIGHT
TZOFFSETFROM:+0100
TZOFFSETTO:+0200
TZNAME:CEST
DTSTART:20260329T010000
END:DAYLIGHT
BEGIN:STANDARD
TZOFFSETFROM:+0200
TZOFFSETTO:+0100
TZNAME:CET
DTSTART:20261025T010000
END:STANDARD
END:VTIMEZONE
BEGIN:VEVENT
DTSTART;TZID=Europe/Paris:20251018T090000
DTEND;TZID=Europe/Paris:20251018T130000
DTSTAMP:20260425T163513
CREATED:20251010T084024Z
LAST-MODIFIED:20251010T084421Z
UID:3468-1760778000-1760792400@mnvp.fr
SUMMARY:Séance du samedi 18/10/2025
DESCRIPTION:bois de Brillehaut. RV parking des marnières – rue de Pacy à Saint Aubin sur Gaillon\n\n\n\ninscription sur xoyondo\n\n\n\ncovoiturage sur covoit.net\n\n\n\n\nIl y aura un groupe Bungy en plus\, pour celles et ceux qui souhaitent découvrir ou pratiquer. L’association à 12 bungy à disposition pour les adhérents et les prête pour la séance. Ces bâtons seront donnés en priorité aux nouveaux adhérents qui souhaitent découvrir cette pratique. Merci à celles et ceux qui ont leurs propres bungy de venir avec.
URL:https://mnvp.fr/evenement/seance-samedi-18oct2025/
LOCATION:Saint-Aubin-sur-Gaillon parking des marnières\, Parking des marnières\, Saint-Aubin-sur-Gaillon\, 27600\, France
CATEGORIES:Séance
END:VEVENT
END:VCALENDAR