BEGIN:VCALENDAR
VERSION:2.0
PRODID:-//Marche Nordique Val et Plaine - ECPv6.15.20//NONSGML v1.0//EN
CALSCALE:GREGORIAN
METHOD:PUBLISH
X-WR-CALNAME:Marche Nordique Val et Plaine
X-ORIGINAL-URL:https://mnvp.fr
X-WR-CALDESC:Évènements pour Marche Nordique Val et Plaine
REFRESH-INTERVAL;VALUE=DURATION:PT1H
X-Robots-Tag:noindex
X-PUBLISHED-TTL:PT1H
BEGIN:VTIMEZONE
TZID:Europe/Paris
BEGIN:DAYLIGHT
TZOFFSETFROM:+0100
TZOFFSETTO:+0200
TZNAME:CEST
DTSTART:20240331T010000
END:DAYLIGHT
BEGIN:STANDARD
TZOFFSETFROM:+0200
TZOFFSETTO:+0100
TZNAME:CET
DTSTART:20241027T010000
END:STANDARD
BEGIN:DAYLIGHT
TZOFFSETFROM:+0100
TZOFFSETTO:+0200
TZNAME:CEST
DTSTART:20250330T010000
END:DAYLIGHT
BEGIN:STANDARD
TZOFFSETFROM:+0200
TZOFFSETTO:+0100
TZNAME:CET
DTSTART:20251026T010000
END:STANDARD
BEGIN:DAYLIGHT
TZOFFSETFROM:+0100
TZOFFSETTO:+0200
TZNAME:CEST
DTSTART:20260329T010000
END:DAYLIGHT
BEGIN:STANDARD
TZOFFSETFROM:+0200
TZOFFSETTO:+0100
TZNAME:CET
DTSTART:20261025T010000
END:STANDARD
END:VTIMEZONE
BEGIN:VEVENT
DTSTART;TZID=Europe/Paris:20251026T090000
DTEND;TZID=Europe/Paris:20251026T130000
DTSTAMP:20260425T163213
CREATED:20251016T154158Z
LAST-MODIFIED:20251017T091507Z
UID:3486-1761469200-1761483600@mnvp.fr
SUMMARY:Séance du dimanche 26/10/2025
DESCRIPTION:bois de Brillehaut. RV parking des marnières – rue de Pacy à Saint Aubin sur Gaillon\n\n\n\ninscription sur xoyondo\n\n\n\ncovoiturage sur covoit.net
URL:https://mnvp.fr/evenement/seance-dimanche-26oct2025/
LOCATION:Saint-Aubin-sur-Gaillon parking des marnières\, Parking des marnières\, Saint-Aubin-sur-Gaillon\, 27600\, France
CATEGORIES:Séance
END:VEVENT
END:VCALENDAR