BEGIN:VCALENDAR
VERSION:2.0
PRODID:-//Marche Nordique Val et Plaine - ECPv6.15.20//NONSGML v1.0//EN
CALSCALE:GREGORIAN
METHOD:PUBLISH
X-ORIGINAL-URL:https://mnvp.fr
X-WR-CALDESC:Évènements pour Marche Nordique Val et Plaine
REFRESH-INTERVAL;VALUE=DURATION:PT1H
X-Robots-Tag:noindex
X-PUBLISHED-TTL:PT1H
BEGIN:VTIMEZONE
TZID:Europe/Paris
BEGIN:DAYLIGHT
TZOFFSETFROM:+0100
TZOFFSETTO:+0200
TZNAME:CEST
DTSTART:20240331T010000
END:DAYLIGHT
BEGIN:STANDARD
TZOFFSETFROM:+0200
TZOFFSETTO:+0100
TZNAME:CET
DTSTART:20241027T010000
END:STANDARD
BEGIN:DAYLIGHT
TZOFFSETFROM:+0100
TZOFFSETTO:+0200
TZNAME:CEST
DTSTART:20250330T010000
END:DAYLIGHT
BEGIN:STANDARD
TZOFFSETFROM:+0200
TZOFFSETTO:+0100
TZNAME:CET
DTSTART:20251026T010000
END:STANDARD
BEGIN:DAYLIGHT
TZOFFSETFROM:+0100
TZOFFSETTO:+0200
TZNAME:CEST
DTSTART:20260329T010000
END:DAYLIGHT
BEGIN:STANDARD
TZOFFSETFROM:+0200
TZOFFSETTO:+0100
TZNAME:CET
DTSTART:20261025T010000
END:STANDARD
END:VTIMEZONE
BEGIN:VEVENT
DTSTART;TZID=Europe/Paris:20251123T090000
DTEND;TZID=Europe/Paris:20251123T130000
DTSTAMP:20260425T145949
CREATED:20251117T080156Z
LAST-MODIFIED:20251119T163952Z
UID:3517-1763888400-1763902800@mnvp.fr
SUMMARY:Séance du dimanche 23/11/2025
DESCRIPTION:Le parking n’étant pas extensible\, le covoiturage est vivement recommandé/souhaité\, merci d’avance 😉\n\n\n\ninscription sur xoyondo\n\n\n\ncovoiturage sur covoit.net
URL:https://mnvp.fr/evenement/seance-dimanche-23nov2025/
LOCATION:La Roche Guyon parking Forêt\, Parking Forêt de la Roche-Guyon\, La-Roche-Guyon\, Val d'Oise\, 95780\, France
CATEGORIES:Séance
END:VEVENT
END:VCALENDAR