BEGIN:VCALENDAR
VERSION:2.0
PRODID:-//Marche Nordique Val et Plaine - ECPv6.15.20//NONSGML v1.0//EN
CALSCALE:GREGORIAN
METHOD:PUBLISH
X-WR-CALNAME:Marche Nordique Val et Plaine
X-ORIGINAL-URL:https://mnvp.fr
X-WR-CALDESC:Évènements pour Marche Nordique Val et Plaine
REFRESH-INTERVAL;VALUE=DURATION:PT1H
X-Robots-Tag:noindex
X-PUBLISHED-TTL:PT1H
BEGIN:VTIMEZONE
TZID:Europe/Paris
BEGIN:DAYLIGHT
TZOFFSETFROM:+0100
TZOFFSETTO:+0200
TZNAME:CEST
DTSTART:20240331T010000
END:DAYLIGHT
BEGIN:STANDARD
TZOFFSETFROM:+0200
TZOFFSETTO:+0100
TZNAME:CET
DTSTART:20241027T010000
END:STANDARD
BEGIN:DAYLIGHT
TZOFFSETFROM:+0100
TZOFFSETTO:+0200
TZNAME:CEST
DTSTART:20250330T010000
END:DAYLIGHT
BEGIN:STANDARD
TZOFFSETFROM:+0200
TZOFFSETTO:+0100
TZNAME:CET
DTSTART:20251026T010000
END:STANDARD
BEGIN:DAYLIGHT
TZOFFSETFROM:+0100
TZOFFSETTO:+0200
TZNAME:CEST
DTSTART:20260329T010000
END:DAYLIGHT
BEGIN:STANDARD
TZOFFSETFROM:+0200
TZOFFSETTO:+0100
TZNAME:CET
DTSTART:20261025T010000
END:STANDARD
END:VTIMEZONE
BEGIN:VEVENT
DTSTART;TZID=Europe/Paris:20251125T180000
DTEND;TZID=Europe/Paris:20251125T200000
DTSTAMP:20260425T145658
CREATED:20251124T145339Z
LAST-MODIFIED:20251124T145340Z
UID:3527-1764093600-1764100800@mnvp.fr
SUMMARY:Sortie nocturne mardi 25 novembre
DESCRIPTION:Lieu de RV: parking du stade de Vernonnet.\n\n\n\nHoraire départ: 18h15. Retour vers 20h00.\n\n\n\nCircuit d’environ 8\,2 km avec un dénivelé positif de 153 m.\n\n\n\nMerci de vous munir de:\n\n\n\n – votre lampe frontale (vérifier son bon fonctionnement!)\n\n\n\n – votre gilet fluo.\n\n\n\nLien pour les inscriptions:   https://xoyondo.com/dp/1wrj464cjenbhgj
URL:https://mnvp.fr/evenement/sortie-nocturne-mardi-25nov2025/
LOCATION:Vernon stade de Vernonnet\, Stade de Vernonnet\, Vernon\, 27200\, France
CATEGORIES:Séance
END:VEVENT
END:VCALENDAR