BEGIN:VCALENDAR
VERSION:2.0
PRODID:-//Marche Nordique Val et Plaine - ECPv6.15.20//NONSGML v1.0//EN
CALSCALE:GREGORIAN
METHOD:PUBLISH
X-WR-CALNAME:Marche Nordique Val et Plaine
X-ORIGINAL-URL:https://mnvp.fr
X-WR-CALDESC:Évènements pour Marche Nordique Val et Plaine
REFRESH-INTERVAL;VALUE=DURATION:PT1H
X-Robots-Tag:noindex
X-PUBLISHED-TTL:PT1H
BEGIN:VTIMEZONE
TZID:Europe/Paris
BEGIN:DAYLIGHT
TZOFFSETFROM:+0100
TZOFFSETTO:+0200
TZNAME:CEST
DTSTART:20250330T010000
END:DAYLIGHT
BEGIN:STANDARD
TZOFFSETFROM:+0200
TZOFFSETTO:+0100
TZNAME:CET
DTSTART:20251026T010000
END:STANDARD
BEGIN:DAYLIGHT
TZOFFSETFROM:+0100
TZOFFSETTO:+0200
TZNAME:CEST
DTSTART:20260329T010000
END:DAYLIGHT
BEGIN:STANDARD
TZOFFSETFROM:+0200
TZOFFSETTO:+0100
TZNAME:CET
DTSTART:20261025T010000
END:STANDARD
BEGIN:DAYLIGHT
TZOFFSETFROM:+0100
TZOFFSETTO:+0200
TZNAME:CEST
DTSTART:20270328T010000
END:DAYLIGHT
BEGIN:STANDARD
TZOFFSETFROM:+0200
TZOFFSETTO:+0100
TZNAME:CET
DTSTART:20271031T010000
END:STANDARD
END:VTIMEZONE
BEGIN:VEVENT
DTSTART;TZID=Europe/Paris:20260103T090000
DTEND;TZID=Europe/Paris:20260103T130000
DTSTAMP:20260426T032943
CREATED:20251219T154957Z
LAST-MODIFIED:20251219T154957Z
UID:3583-1767430800-1767445200@mnvp.fr
SUMMARY:Séance du samedi 03/01/2026
DESCRIPTION:inscription sur xoyondo\n\n\n\ncovoiturage sur covoit.net
URL:https://mnvp.fr/evenement/seance-samedi-03jan2026/
LOCATION:Jouy sur Eure église\, 31 rue de l'Ancienne Abbaye\, Jouy-sur-Eure\, Eure\, 27120\, France
CATEGORIES:Séance
END:VEVENT
BEGIN:VEVENT
DTSTART;TZID=Europe/Paris:20260104T090000
DTEND;TZID=Europe/Paris:20260104T130000
DTSTAMP:20260426T032943
CREATED:20251219T155213Z
LAST-MODIFIED:20251219T155214Z
UID:3586-1767517200-1767531600@mnvp.fr
SUMMARY:Séance du dimanche 04/01/2026
DESCRIPTION:inscription sur xoyondo\n\n\n\ncovoiturage sur covoit.net
URL:https://mnvp.fr/evenement/seance-dimanche-04jan2026/
LOCATION:Jouy sur Eure église\, 31 rue de l'Ancienne Abbaye\, Jouy-sur-Eure\, Eure\, 27120\, France
CATEGORIES:Séance
END:VEVENT
BEGIN:VEVENT
DTSTART;TZID=Europe/Paris:20260106T180000
DTEND;TZID=Europe/Paris:20260106T200000
DTSTAMP:20260426T032943
CREATED:20260101T180704Z
LAST-MODIFIED:20260106T113502Z
UID:3589-1767722400-1767729600@mnvp.fr
SUMMARY:Entraînement du mardi 06/01/2026
DESCRIPTION:SÉANCE ANNULÉE EN RAISON DES CONDITIONS CLIMATIQUES \n\n\n\nLa séance se déroulera sur la piste d’athlétisme. \n\n\n\nSe munir de sa lampe frontale. \n\n\n\nInscription sur xoyondo
URL:https://mnvp.fr/evenement/entrainement-mardi-06jan2026/
LOCATION:Saint-Marcel COSEC\, 18 rue barrière\, Saint-Marcel\, 27950\, France
CATEGORIES:Séance
END:VEVENT
BEGIN:VEVENT
DTSTART;TZID=Europe/Paris:20260108T090000
DTEND;TZID=Europe/Paris:20260108T130000
DTSTAMP:20260426T032943
CREATED:20260102T140841Z
LAST-MODIFIED:20260102T140842Z
UID:3591-1767862800-1767877200@mnvp.fr
SUMMARY:Séance du jeudi 08/01/2026
DESCRIPTION:inscription sur xoyondo\n\n\n\ncovoiturage sur covoit.net
URL:https://mnvp.fr/evenement/seance-jeudi-08jan2026/
LOCATION:Jouy sur Eure église\, 31 rue de l'Ancienne Abbaye\, Jouy-sur-Eure\, Eure\, 27120\, France
CATEGORIES:Séance
END:VEVENT
BEGIN:VEVENT
DTSTART;TZID=Europe/Paris:20260110T090000
DTEND;TZID=Europe/Paris:20260110T130000
DTSTAMP:20260426T032943
CREATED:20260102T141016Z
LAST-MODIFIED:20260102T141016Z
UID:3593-1768035600-1768050000@mnvp.fr
SUMMARY:Séance du samedi 10/01/2026
DESCRIPTION:inscription sur xoyondo\n\n\n\ncovoiturage sur covoit.net
URL:https://mnvp.fr/evenement/seance-samedi-10jan2026/
LOCATION:Jouy sur Eure église\, 31 rue de l'Ancienne Abbaye\, Jouy-sur-Eure\, Eure\, 27120\, France
CATEGORIES:Séance
END:VEVENT
BEGIN:VEVENT
DTSTART;TZID=Europe/Paris:20260111T090000
DTEND;TZID=Europe/Paris:20260111T130000
DTSTAMP:20260426T032943
CREATED:20260102T141154Z
LAST-MODIFIED:20260102T141155Z
UID:3595-1768122000-1768136400@mnvp.fr
SUMMARY:Séance du dimanche 11/01/2026
DESCRIPTION:inscription sur xoyondo\n\n\n\ncovoiturage sur covoit.net
URL:https://mnvp.fr/evenement/seance-dimanche-11jan2026/
LOCATION:Jouy sur Eure église\, 31 rue de l'Ancienne Abbaye\, Jouy-sur-Eure\, Eure\, 27120\, France
CATEGORIES:Séance
END:VEVENT
BEGIN:VEVENT
DTSTART;TZID=Europe/Paris:20260113T180000
DTEND;TZID=Europe/Paris:20260113T200000
DTSTAMP:20260426T032943
CREATED:20260108T110824Z
LAST-MODIFIED:20260108T110824Z
UID:3603-1768327200-1768334400@mnvp.fr
SUMMARY:Entraînement du mardi 13/01/2026
DESCRIPTION:La séance se déroulera sur la piste d’athlétisme. \n\n\n\nSe munir de sa lampe frontale. \n\n\n\nInscription sur xoyondo
URL:https://mnvp.fr/evenement/entrainement-mardi-13jan2026/
LOCATION:Saint-Marcel COSEC\, 18 rue barrière\, Saint-Marcel\, 27950\, France
CATEGORIES:Séance
END:VEVENT
BEGIN:VEVENT
DTSTART;TZID=Europe/Paris:20260115T090000
DTEND;TZID=Europe/Paris:20260115T130000
DTSTAMP:20260426T032943
CREATED:20260111T091259Z
LAST-MODIFIED:20260111T091300Z
UID:3608-1768467600-1768482000@mnvp.fr
SUMMARY:Séance du jeudi 15/01/2026
DESCRIPTION:inscription sur xoyondo\n\n\n\ncovoiturage sur covoit.net
URL:https://mnvp.fr/evenement/seance-jeudi-15jan2026/
LOCATION:Moisson base de loisirs\, Ile de loisirs des boucles de la Seine\, Moisson\, Ile de France\, 78840\, France
CATEGORIES:Séance
END:VEVENT
BEGIN:VEVENT
DTSTART;TZID=Europe/Paris:20260117T090000
DTEND;TZID=Europe/Paris:20260117T130000
DTSTAMP:20260426T032943
CREATED:20260111T091409Z
LAST-MODIFIED:20260111T091410Z
UID:3610-1768640400-1768654800@mnvp.fr
SUMMARY:Séance du samedi 17/01/2026
DESCRIPTION:inscription sur xoyondo\n\n\n\ncovoiturage sur covoit.net
URL:https://mnvp.fr/evenement/seance-samedi-17jan2026/
LOCATION:Moisson base de loisirs\, Ile de loisirs des boucles de la Seine\, Moisson\, Ile de France\, 78840\, France
CATEGORIES:Séance
END:VEVENT
BEGIN:VEVENT
DTSTART;TZID=Europe/Paris:20260118T090000
DTEND;TZID=Europe/Paris:20260118T130000
DTSTAMP:20260426T032943
CREATED:20260111T091536Z
LAST-MODIFIED:20260111T091537Z
UID:3612-1768726800-1768741200@mnvp.fr
SUMMARY:Séance du dimanche 18/01/2026
DESCRIPTION:inscription sur xoyondo\n\n\n\ncovoiturage sur covoit.net
URL:https://mnvp.fr/evenement/seance-dimanche-18jan2026/
LOCATION:Moisson base de loisirs\, Ile de loisirs des boucles de la Seine\, Moisson\, Ile de France\, 78840\, France
CATEGORIES:Séance
END:VEVENT
BEGIN:VEVENT
DTSTART;TZID=Europe/Paris:20260120T180000
DTEND;TZID=Europe/Paris:20260120T200000
DTSTAMP:20260426T032943
CREATED:20260116T103310Z
LAST-MODIFIED:20260116T103310Z
UID:3622-1768932000-1768939200@mnvp.fr
SUMMARY:Entraînement du mardi 20/01/2026
DESCRIPTION:La séance se déroulera sur la piste d’athlétisme. \n\n\n\nSe munir de sa lampe frontale. \n\n\n\nInscription sur xoyondo
URL:https://mnvp.fr/evenement/entrainement-mardi-20jan2026/
LOCATION:Saint-Marcel COSEC\, 18 rue barrière\, Saint-Marcel\, 27950\, France
CATEGORIES:Séance
END:VEVENT
BEGIN:VEVENT
DTSTART;TZID=Europe/Paris:20260122T090000
DTEND;TZID=Europe/Paris:20260122T130000
DTSTAMP:20260426T032943
CREATED:20260115T152010Z
LAST-MODIFIED:20260122T152033Z
UID:3616-1769072400-1769086800@mnvp.fr
SUMMARY:Séance du jeudi 22/01/2026
DESCRIPTION:inscription sur xoyondo\n\n\n\ncovoiturage sur covoit.net
URL:https://mnvp.fr/evenement/seance-jeudi-22jan2026/
LOCATION:Moisson base de loisirs\, Ile de loisirs des boucles de la Seine\, Moisson\, Ile de France\, 78840\, France
CATEGORIES:Séance
END:VEVENT
BEGIN:VEVENT
DTSTART;TZID=Europe/Paris:20260124T090000
DTEND;TZID=Europe/Paris:20260124T130000
DTSTAMP:20260426T032943
CREATED:20260115T152130Z
LAST-MODIFIED:20260119T153950Z
UID:3618-1769245200-1769259600@mnvp.fr
SUMMARY:Séance du samedi 24/01/2026
DESCRIPTION:inscription sur xoyondo\n\n\n\ncovoiturage sur covoit.net
URL:https://mnvp.fr/evenement/seance-samedi-24jan2026/
LOCATION:Moisson base de loisirs\, Ile de loisirs des boucles de la Seine\, Moisson\, Ile de France\, 78840\, France
CATEGORIES:Séance
END:VEVENT
BEGIN:VEVENT
DTSTART;TZID=Europe/Paris:20260125T090000
DTEND;TZID=Europe/Paris:20260125T130000
DTSTAMP:20260426T032943
CREATED:20260115T152233Z
LAST-MODIFIED:20260119T154048Z
UID:3620-1769331600-1769346000@mnvp.fr
SUMMARY:Séance du dimanche 25/01/2026
DESCRIPTION:inscription sur xoyondo\n\n\n\ncovoiturage sur covoit.net
URL:https://mnvp.fr/evenement/seance-dimanche-25jan2026/
LOCATION:Moisson base de loisirs\, Ile de loisirs des boucles de la Seine\, Moisson\, Ile de France\, 78840\, France
CATEGORIES:Séance
END:VEVENT
BEGIN:VEVENT
DTSTART;TZID=Europe/Paris:20260127T180000
DTEND;TZID=Europe/Paris:20260127T200000
DTSTAMP:20260426T032943
CREATED:20260121T174425Z
LAST-MODIFIED:20260121T174425Z
UID:3628-1769536800-1769544000@mnvp.fr
SUMMARY:Entraînement du mardi 27/01/2026
DESCRIPTION:La séance se déroulera sur la piste d’athlétisme. \n\n\n\nSe munir de sa lampe frontale. \n\n\n\nInscription sur xoyondo
URL:https://mnvp.fr/evenement/entrainement-mardi-27jan2026/
LOCATION:Saint-Marcel COSEC\, 18 rue barrière\, Saint-Marcel\, 27950\, France
CATEGORIES:Séance
END:VEVENT
BEGIN:VEVENT
DTSTART;TZID=Europe/Paris:20260129T090000
DTEND;TZID=Europe/Paris:20260129T130000
DTSTAMP:20260426T032943
CREATED:20260122T152010Z
LAST-MODIFIED:20260122T152011Z
UID:3630-1769677200-1769691600@mnvp.fr
SUMMARY:Séance du jeudi 29/01/2026
DESCRIPTION:inscription sur xoyondo\n\n\n\ncovoiturage sur covoit.net
URL:https://mnvp.fr/evenement/seance-jeudi-29jan2026/
LOCATION:Moisson base de loisirs\, Ile de loisirs des boucles de la Seine\, Moisson\, Ile de France\, 78840\, France
CATEGORIES:Séance
END:VEVENT
BEGIN:VEVENT
DTSTART;TZID=Europe/Paris:20260131T090000
DTEND;TZID=Europe/Paris:20260131T130000
DTSTAMP:20260426T032943
CREATED:20260122T152158Z
LAST-MODIFIED:20260122T152159Z
UID:3632-1769850000-1769864400@mnvp.fr
SUMMARY:Séance du samedi 31/01/2026
DESCRIPTION:inscription sur xoyondo\n\n\n\ncovoiturage sur covoit.net
URL:https://mnvp.fr/evenement/seance-samedi-31jan2026/
LOCATION:Moisson base de loisirs\, Ile de loisirs des boucles de la Seine\, Moisson\, Ile de France\, 78840\, France
CATEGORIES:Séance
END:VEVENT
END:VCALENDAR