BEGIN:VCALENDAR
VERSION:2.0
PRODID:-//Marche Nordique Val et Plaine - ECPv6.15.20//NONSGML v1.0//EN
CALSCALE:GREGORIAN
METHOD:PUBLISH
X-ORIGINAL-URL:https://mnvp.fr
X-WR-CALDESC:Évènements pour Marche Nordique Val et Plaine
REFRESH-INTERVAL;VALUE=DURATION:PT1H
X-Robots-Tag:noindex
X-PUBLISHED-TTL:PT1H
BEGIN:VTIMEZONE
TZID:Europe/Paris
BEGIN:DAYLIGHT
TZOFFSETFROM:+0100
TZOFFSETTO:+0200
TZNAME:CEST
DTSTART:20250330T010000
END:DAYLIGHT
BEGIN:STANDARD
TZOFFSETFROM:+0200
TZOFFSETTO:+0100
TZNAME:CET
DTSTART:20251026T010000
END:STANDARD
BEGIN:DAYLIGHT
TZOFFSETFROM:+0100
TZOFFSETTO:+0200
TZNAME:CEST
DTSTART:20260329T010000
END:DAYLIGHT
BEGIN:STANDARD
TZOFFSETFROM:+0200
TZOFFSETTO:+0100
TZNAME:CET
DTSTART:20261025T010000
END:STANDARD
BEGIN:DAYLIGHT
TZOFFSETFROM:+0100
TZOFFSETTO:+0200
TZNAME:CEST
DTSTART:20270328T010000
END:DAYLIGHT
BEGIN:STANDARD
TZOFFSETFROM:+0200
TZOFFSETTO:+0100
TZNAME:CET
DTSTART:20271031T010000
END:STANDARD
END:VTIMEZONE
BEGIN:VEVENT
DTSTART;TZID=Europe/Paris:20260331T180000
DTEND;TZID=Europe/Paris:20260331T200000
DTSTAMP:20260426T003245
CREATED:20260327T113603Z
LAST-MODIFIED:20260327T113603Z
UID:3739-1774980000-1774987200@mnvp.fr
SUMMARY:Entraînement du mardi 31/03/2026
DESCRIPTION:La séance se déroulera sur la piste d’athlétisme. \n\n\n\nSe munir de sa lampe frontale et de ses pads. \n\n\n\nInscription sur xoyondo \n\n\n\nPour ceux/celles qui restent après la séance: un p’tit « after » est organisé. L’association apporte le cidre et les gobelets. Merci d’apporter un p’tit quelque chose pour 3/4 personnes (saucisson\, pâté\, quiche\, tarte…).
URL:https://mnvp.fr/evenement/entrainement-mardi-31mar2026/
LOCATION:Saint-Marcel COSEC\, 18 rue barrière\, Saint-Marcel\, 27950\, France
CATEGORIES:Séance
END:VEVENT
END:VCALENDAR