BEGIN:VCALENDAR
VERSION:2.0
PRODID:-//Marche Nordique Val et Plaine - ECPv6.15.20//NONSGML v1.0//EN
CALSCALE:GREGORIAN
METHOD:PUBLISH
X-ORIGINAL-URL:https://mnvp.fr
X-WR-CALDESC:Évènements pour Marche Nordique Val et Plaine
REFRESH-INTERVAL;VALUE=DURATION:PT1H
X-Robots-Tag:noindex
X-PUBLISHED-TTL:PT1H
BEGIN:VTIMEZONE
TZID:Europe/Paris
BEGIN:DAYLIGHT
TZOFFSETFROM:+0100
TZOFFSETTO:+0200
TZNAME:CEST
DTSTART:20250330T010000
END:DAYLIGHT
BEGIN:STANDARD
TZOFFSETFROM:+0200
TZOFFSETTO:+0100
TZNAME:CET
DTSTART:20251026T010000
END:STANDARD
BEGIN:DAYLIGHT
TZOFFSETFROM:+0100
TZOFFSETTO:+0200
TZNAME:CEST
DTSTART:20260329T010000
END:DAYLIGHT
BEGIN:STANDARD
TZOFFSETFROM:+0200
TZOFFSETTO:+0100
TZNAME:CET
DTSTART:20261025T010000
END:STANDARD
BEGIN:DAYLIGHT
TZOFFSETFROM:+0100
TZOFFSETTO:+0200
TZNAME:CEST
DTSTART:20270328T010000
END:DAYLIGHT
BEGIN:STANDARD
TZOFFSETFROM:+0200
TZOFFSETTO:+0100
TZNAME:CET
DTSTART:20271031T010000
END:STANDARD
END:VTIMEZONE
BEGIN:VEVENT
DTSTART;TZID=Europe/Paris:20260411T090000
DTEND;TZID=Europe/Paris:20260411T130000
DTSTAMP:20260426T003216
CREATED:20260403T115809Z
LAST-MODIFIED:20260403T115810Z
UID:3759-1775898000-1775912400@mnvp.fr
SUMMARY:Séance du samedi 11/04/2026
DESCRIPTION:inscription sur xoyondo\n\n\n\ncovoiturage sur covoit.net
URL:https://mnvp.fr/evenement/seance-samedi-11avr2026/
LOCATION:Giverny parking Verger\, Parking Verger\, Giverny\, Eure\, 27620\, France
CATEGORIES:Séance
END:VEVENT
END:VCALENDAR