BEGIN:VCALENDAR
VERSION:2.0
PRODID:-//Marche Nordique Val et Plaine - ECPv6.15.20//NONSGML v1.0//EN
CALSCALE:GREGORIAN
METHOD:PUBLISH
X-WR-CALNAME:Marche Nordique Val et Plaine
X-ORIGINAL-URL:https://mnvp.fr
X-WR-CALDESC:Évènements pour Marche Nordique Val et Plaine
REFRESH-INTERVAL;VALUE=DURATION:PT1H
X-Robots-Tag:noindex
X-PUBLISHED-TTL:PT1H
BEGIN:VTIMEZONE
TZID:Europe/Paris
BEGIN:DAYLIGHT
TZOFFSETFROM:+0100
TZOFFSETTO:+0200
TZNAME:CEST
DTSTART:20240331T010000
END:DAYLIGHT
BEGIN:STANDARD
TZOFFSETFROM:+0200
TZOFFSETTO:+0100
TZNAME:CET
DTSTART:20241027T010000
END:STANDARD
BEGIN:DAYLIGHT
TZOFFSETFROM:+0100
TZOFFSETTO:+0200
TZNAME:CEST
DTSTART:20250330T010000
END:DAYLIGHT
BEGIN:STANDARD
TZOFFSETFROM:+0200
TZOFFSETTO:+0100
TZNAME:CET
DTSTART:20251026T010000
END:STANDARD
BEGIN:DAYLIGHT
TZOFFSETFROM:+0100
TZOFFSETTO:+0200
TZNAME:CEST
DTSTART:20260329T010000
END:DAYLIGHT
BEGIN:STANDARD
TZOFFSETFROM:+0200
TZOFFSETTO:+0100
TZNAME:CET
DTSTART:20261025T010000
END:STANDARD
END:VTIMEZONE
BEGIN:VEVENT
DTSTART;TZID=Europe/Paris:20250826T180000
DTEND;TZID=Europe/Paris:20250826T200000
DTSTAMP:20260425T180114
CREATED:20250815T091158Z
LAST-MODIFIED:20250815T092445Z
UID:3373-1756231200-1756238400@mnvp.fr
SUMMARY:Séance du mardi 26/08/2025
DESCRIPTION:Début de la séance : 18h15 \n\n\n\nInscription
URL:https://mnvp.fr/evenement/seance-du-mardi-26-08-2025/
LOCATION:Saint-Marcel parking des Anciens Combattants\, 5 place des Anciens Combattants\, Saint-Marcel\, 27950\, France
CATEGORIES:Séance
END:VEVENT
END:VCALENDAR